BEGIN:VCALENDAR
VERSION:2.0
PRODID:-//wp-events-plugin.com//6.6.3//EN
BEGIN:VEVENT
UID:184@teppdd.moe.gov.tt
DTSTART:20250516T120000Z
DTEND:20250516T140000Z
DTSTAMP:20250508T113259Z
URL:https://teppdd.moe.gov.tt/events/childhood-trauma-and-how-it-impacts-l
 earning-and-child-behaviour/
SUMMARY:Childhood Trauma and How it Impacts Learning and Child Behaviour
DESCRIPTION:Student Support Services Division (SSSD)\n\nDate: May 16th\, 20
 25\n\nTime: 8:00 a.m. - 10:00 a.m.\n\nTopic: Childhood Trauma and How it I
 mpacts Learning and Child Behaviour\n\nDescription: District Meeting\n\nOb
 jectives: Childhood Trauma and how it impacts learning and behaviour\n\n 	
 Define Childhood Trauma – Explore different types of trauma (acute\, chr
 onic\, complex) and their prevalence among children aged 5-11.\n\nTarget A
 udience: SSW Primary Officers\n\nPoint Person: Sabrina Peters\n\n&nbsp\;
CATEGORIES:Student Support Services Division
LOCATION:South Eastern Education District Office\, Naparima Mayaro Road\, R
 io Claro\, Trinidad and Tobago
X-APPLE-STRUCTURED-LOCATION;VALUE=URI;X-ADDRESS=Naparima Mayaro Road\, Rio 
 Claro\, Trinidad and Tobago;X-APPLE-RADIUS=100;X-TITLE=South Eastern Educa
 tion District Office:geo:0,0
END:VEVENT
END:VCALENDAR