BEGIN:VCALENDAR
VERSION:2.0
PRODID:-//wp-events-plugin.com//6.6.3//EN
BEGIN:VEVENT
UID:363@teppdd.moe.gov.tt
DTSTART:20251201T130000Z
DTEND:20251205T180000Z
DTSTAMP:20251002T160309Z
URL:https://teppdd.moe.gov.tt/events/implementing-spanish-in-the-early-chi
 ldhood-curriculum-servol-2/
SUMMARY:Implementing Spanish in the Early Childhood Curriculum SERVOL
DESCRIPTION:Early Childhood Care and Education (ECCE)\n\nDate: December 1st
  to 5th\, 2025\n\nTime: 9:00 a.m. - 2:00 p.m.\n\nTopic: Implementing Spani
 sh in the Early Childhood Curriculum SERVOL\n\nDescription: The integratio
 n of Spanish into the early childhood curriculum aims to create a more inc
 lusive\, equitable\, and enriching educational environment. By fostering b
 ilingualism and cultural awareness\, the program prepares children to thri
 ve in a diverse and interconnected world. The intended impact encompasses 
 cognitive\, academic\, linguistic\, social\, emotional\, and long-term ben
 efits\, ultimately contributing to the holistic development of young learn
 ers.\n\nObjective: \n\n 	Understand the importance of early language acqu
 isition\n 	Familiarize with Spanish language basics\n 	Integrate Spanish i
 nto daily activities\n 	Design Spanish-Enriched Activity Plans\n 	Develop 
 cultural awareness and sensitivity\n 	Utilize resources and tools for Span
 ish instruction\n 	Assess language development in children\n 	Engage in ac
 tivities with parents\n 	Preparation of the learning environment to promot
 e bilingualism\n\nTarget Audience: SERVOL Field Officers\, SERVOL Teachers
 \n\nPoint Person: Dr. Elizabeth King-Oliver\, ECCE Curriculum Programme C
 oordinator\n\nMode of Delivery: Face to Face\n\nVenue: SEROL La Romaine- 
 South Centres
CATEGORIES:Early Childhood and Care Education ECCE
END:VEVENT
END:VCALENDAR