BEGIN:VCALENDAR
VERSION:2.0
PRODID:-//wp-events-plugin.com//6.6.3//EN
BEGIN:VEVENT
UID:164@teppdd.moe.gov.tt
DTSTART:20250213T123000Z
DTEND:20250213T180000Z
DTSTAMP:20250131T114337Z
URL:https://teppdd.moe.gov.tt/events/sdp-self-assessment-instrument-7/
SUMMARY:SDP- Self Assessment Instrument
DESCRIPTION:School Supervision and Management Division (SSMD)\n\nDate: Febr
 uary 13th\, 2025\n\nTime: 8:30 a.m. - 2:00 p.m.\n\nTopic: SDP - Self Asses
 sment Instrument\n\nDescription: School Development Planning Using Self-As
 sessment and Prioritizing Strategic Objectives as a follow-up to the onlin
 e sessions in Term One of this academic year 2024-2025.\n\nTarget Audience
 : Principals\, Vice-Principals (North Eastern Education District)\n\n&nbsp
 \;\n\n&nbsp\;\n\n&nbsp\;
CATEGORIES:School Supervision and Management Division SSMD
END:VEVENT
END:VCALENDAR