BEGIN:VCALENDAR
VERSION:2.0
PRODID:-//wp-events-plugin.com//6.6.3//EN
BEGIN:VEVENT
UID:239@teppdd.moe.gov.tt
DTSTART:20250602T130000Z
DTEND:20250604T183000Z
DTSTAMP:20250508T121832Z
URL:https://teppdd.moe.gov.tt/events/sea-residual-training-for-standard-4-
 teachers-3/
SUMMARY:SEA Residual Training for Standard 4 Teachers
DESCRIPTION:Curriculum Planning and Development Division (CPDD)\n\nDate: Ma
 y 26th -28th\, June 2nd- 4th\, June 9th- 11th\, 2025\n\nTime: 9:00 a.m. - 
 2:30 p.m.\n\nTopic: SEA Residual Training for Standard 4 Teachers\n\nDescr
 iption: SEA Residual Training for Standard four Teachers\n\nObjectives: \
 n1. To sensitise teachers to the changes in the SEA Framework 2025 - 2028\
 n2. To expose teachers to principles for assessment\n3. To share strategie
 s for diagnosis and remediation\n4. To explore the CPA approach\nTarget Au
 dience: Teachers at the Standard 4 Level\n\nPoint Person: Nicole Harris-Kn
 udsen- Curriculum Coordinator (Ag.)\n\nMode of Delivery: In-person\n\nSpec
 ific Instructions: Primary schools to send teachers at the Standard four L
 evel
CATEGORIES:Curriculum Planning and Development Division CPDD
END:VEVENT
END:VCALENDAR