BEGIN:VCALENDAR
VERSION:2.0
PRODID:-//Professional Development Toolkit - ECPv6.7.1//NONSGML v1.0//EN
CALSCALE:GREGORIAN
METHOD:PUBLISH
X-ORIGINAL-URL:https://teppdd.moe.gov.tt
X-WR-CALDESC:Events for Professional Development Toolkit
REFRESH-INTERVAL;VALUE=DURATION:PT1H
X-Robots-Tag:noindex
X-PUBLISHED-TTL:PT1H
BEGIN:VTIMEZONE
TZID:America/Halifax
BEGIN:DAYLIGHT
TZOFFSETFROM:-0400
TZOFFSETTO:-0300
TZNAME:ADT
DTSTART:20240310T060000
END:DAYLIGHT
BEGIN:STANDARD
TZOFFSETFROM:-0300
TZOFFSETTO:-0400
TZNAME:AST
DTSTART:20241103T050000
END:STANDARD
END:VTIMEZONE
BEGIN:VEVENT
DTSTART;TZID=America/Halifax:20241203T083000
DTEND;TZID=America/Halifax:20241204T143000
DTSTAMP:20260419T115134
CREATED:20240904T175638Z
LAST-MODIFIED:20240905T192021Z
UID:1670-1733214600-1733322600@teppdd.moe.gov.tt
SUMMARY:Teacher Education Performance & Professional Development Division (TEPPDD)
DESCRIPTION:TEACHER INDUCTION\nDESCRIPTION: Provide training to early career teacher through a year long programme.  \nTARGET GROUP: New Teachers 2023-2024 \nVENUE:
URL:https://teppdd.moe.gov.tt/sessions/teacher-education-performance-professional-development-division-teppdd-3/
CATEGORIES:Teacher Education Performance & Professional Development Division (TEPPDD)
END:VEVENT
END:VCALENDAR