BEGIN:VCALENDAR
VERSION:2.0
PRODID:-//Professional Development Toolkit - ECPv6.7.1//NONSGML v1.0//EN
CALSCALE:GREGORIAN
METHOD:PUBLISH
X-ORIGINAL-URL:https://teppdd.moe.gov.tt
X-WR-CALDESC:Events for Professional Development Toolkit
REFRESH-INTERVAL;VALUE=DURATION:PT1H
X-Robots-Tag:noindex
X-PUBLISHED-TTL:PT1H
BEGIN:VTIMEZONE
TZID:America/Halifax
BEGIN:DAYLIGHT
TZOFFSETFROM:-0400
TZOFFSETTO:-0300
TZNAME:ADT
DTSTART:20240310T060000
END:DAYLIGHT
BEGIN:STANDARD
TZOFFSETFROM:-0300
TZOFFSETTO:-0400
TZNAME:AST
DTSTART:20241103T050000
END:STANDARD
END:VTIMEZONE
BEGIN:VEVENT
DTSTART;TZID=America/Halifax:20241209T090000
DTEND;TZID=America/Halifax:20241213T140000
DTSTAMP:20260419T113206
CREATED:20240904T125450Z
LAST-MODIFIED:20240912T152153Z
UID:1426-1733734800-1734098400@teppdd.moe.gov.tt
SUMMARY:Early Childhood Care and Education (ECCE)
DESCRIPTION:Training of the Child Development Assessment (CDA) Instrument to all teachers in a systematic way.\nTARGET AUDIENCE: ECCE Administrators\, ECCE Teachers\, ECCE Teacher Assistants\, ECCE Auxiliary \nVENUE:
URL:https://teppdd.moe.gov.tt/sessions/early-childhood-care-and-education-ecce-2-2/
CATEGORIES:Early Childhood Care and Education (ECCE)
END:VEVENT
END:VCALENDAR