BEGIN:VCALENDAR
VERSION:2.0
PRODID:-//Professional Development Toolkit - ECPv6.7.1//NONSGML v1.0//EN
CALSCALE:GREGORIAN
METHOD:PUBLISH
X-ORIGINAL-URL:https://teppdd.moe.gov.tt
X-WR-CALDESC:Events for Professional Development Toolkit
REFRESH-INTERVAL;VALUE=DURATION:PT1H
X-Robots-Tag:noindex
X-PUBLISHED-TTL:PT1H
BEGIN:VTIMEZONE
TZID:America/Halifax
BEGIN:DAYLIGHT
TZOFFSETFROM:-0400
TZOFFSETTO:-0300
TZNAME:ADT
DTSTART:20240310T060000
END:DAYLIGHT
BEGIN:STANDARD
TZOFFSETFROM:-0300
TZOFFSETTO:-0400
TZNAME:AST
DTSTART:20241103T050000
END:STANDARD
END:VTIMEZONE
BEGIN:VEVENT
DTSTART;TZID=America/Halifax:20240930T083000
DTEND;TZID=America/Halifax:20241004T143000
DTSTAMP:20260420T093015
CREATED:20240903T172354Z
LAST-MODIFIED:20240905T145850Z
UID:1341-1727685000-1728052200@teppdd.moe.gov.tt
SUMMARY:Curriculum Planning & Development Division (CPDD)
DESCRIPTION:MUSIC: ITEM WRITING FOR CSEC MUSIC\nDESCRIPTION: Item writing for CSEC Music 2024/2025\, CXC has remit over this activity.  \nTARGET GROUP: 15 CSEC Music Teachers 2024-2025 \nVENUE:
URL:https://teppdd.moe.gov.tt/sessions/curriculum-planning-development-division-cpdd/
CATEGORIES:Curriculum Planning & Development Division (CPDD)
END:VEVENT
END:VCALENDAR