BEGIN:VCALENDAR
VERSION:2.0
PRODID:-//Professional Development Toolkit - ECPv6.7.1//NONSGML v1.0//EN
CALSCALE:GREGORIAN
METHOD:PUBLISH
X-ORIGINAL-URL:https://teppdd.moe.gov.tt
X-WR-CALDESC:Events for Professional Development Toolkit
REFRESH-INTERVAL;VALUE=DURATION:PT1H
X-Robots-Tag:noindex
X-PUBLISHED-TTL:PT1H
BEGIN:VTIMEZONE
TZID:America/Halifax
BEGIN:DAYLIGHT
TZOFFSETFROM:-0400
TZOFFSETTO:-0300
TZNAME:ADT
DTSTART:20240310T060000
END:DAYLIGHT
BEGIN:STANDARD
TZOFFSETFROM:-0300
TZOFFSETTO:-0400
TZNAME:AST
DTSTART:20241103T050000
END:STANDARD
END:VTIMEZONE
BEGIN:VEVENT
DTSTART;TZID=America/Halifax:20241009T083000
DTEND;TZID=America/Halifax:20241009T143000
DTSTAMP:20260420T093444
CREATED:20240905T173638Z
LAST-MODIFIED:20240905T174050Z
UID:1824-1728462600-1728484200@teppdd.moe.gov.tt
SUMMARY:Curriculum Planning and Development Division (CPDD)
DESCRIPTION:CSEC Agricultural Science SBA Teacher Training Workshop\nDESCRIPTION: SBA Training workshop \nTARGET AUDIENCE: Agricultural Science Teachers Form 4 & 5  \nVENUE: 
URL:https://teppdd.moe.gov.tt/sessions/curriculum-planning-and-development-division-cpdd-12/
CATEGORIES:Curriculum Planning & Development Division (CPDD)
END:VEVENT
BEGIN:VEVENT
DTSTART;TZID=America/Halifax:20241009T083000
DTEND;TZID=America/Halifax:20241009T143000
DTSTAMP:20260420T093444
CREATED:20240905T174019Z
LAST-MODIFIED:20240905T174336Z
UID:1826-1728462600-1728484200@teppdd.moe.gov.tt
SUMMARY:Curriculum Planning and Development Division (CPDD)
DESCRIPTION:Training for TVET HoDs\, CVQ Coordinators and CVQ Internal Verifiers\nDESCRIPTION: Curriculum Support \nTARGET AUDIENCE: CVQ Internal Verifiers/CVQ Coordinators/TEVET/HoDs \nVENUE: 
URL:https://teppdd.moe.gov.tt/sessions/curriculum-planning-and-development-division-cpdd-13/
CATEGORIES:Curriculum Planning & Development Division (CPDD)
END:VEVENT
BEGIN:VEVENT
DTSTART;TZID=America/Halifax:20241009T093000
DTEND;TZID=America/Halifax:20241009T143000
DTSTAMP:20260420T093444
CREATED:20240930T142940Z
LAST-MODIFIED:20240930T152238Z
UID:2074-1728466200-1728484200@teppdd.moe.gov.tt
SUMMARY:Curriculum Planning and Development Division (CPDD)
DESCRIPTION:TOPIC: SOUNDSCAPES \nREPRESENTATION: One (1) Teacher Per School \nTARGET GROUP: Standard One Teachers (St Patrick- All Schools) \nVENUE: Palo Seco Government Primary School \n 
URL:https://teppdd.moe.gov.tt/sessions/curriculum-planning-and-development-division-8/
CATEGORIES:Curriculum Planning & Development Division (CPDD)
END:VEVENT
END:VCALENDAR