BEGIN:VCALENDAR
VERSION:2.0
PRODID:-//Professional Development Toolkit - ECPv6.7.1//NONSGML v1.0//EN
CALSCALE:GREGORIAN
METHOD:PUBLISH
X-ORIGINAL-URL:https://teppdd.moe.gov.tt
X-WR-CALDESC:Events for Professional Development Toolkit
REFRESH-INTERVAL;VALUE=DURATION:PT1H
X-Robots-Tag:noindex
X-PUBLISHED-TTL:PT1H
BEGIN:VTIMEZONE
TZID:America/Halifax
BEGIN:DAYLIGHT
TZOFFSETFROM:-0400
TZOFFSETTO:-0300
TZNAME:ADT
DTSTART:20240310T060000
END:DAYLIGHT
BEGIN:STANDARD
TZOFFSETFROM:-0300
TZOFFSETTO:-0400
TZNAME:AST
DTSTART:20241103T050000
END:STANDARD
END:VTIMEZONE
BEGIN:VEVENT
DTSTART;TZID=America/Halifax:20241014T080000
DTEND;TZID=America/Halifax:20241014T130000
DTSTAMP:20260420T094630
CREATED:20240930T144000Z
LAST-MODIFIED:20240930T150013Z
UID:2078-1728892800-1728910800@teppdd.moe.gov.tt
SUMMARY:Curriculum Planning Development Division (CPDD)
DESCRIPTION:TOPIC: SOUNDSCAPES \nREPRESENTATION: One (1) Teacher Per School \nTARGET GROUP: Standard One Teachers (St. George East (A)) \nVENUE: Lecture Room 3 \nCheeseman Building\, DCFA \nUWI St. Augustine\, \nGordon Street
URL:https://teppdd.moe.gov.tt/sessions/curriculum-planning-development-division-cpdd-22/
CATEGORIES:Curriculum Planning & Development Division (CPDD)
END:VEVENT
BEGIN:VEVENT
DTSTART;TZID=America/Halifax:20241014T083000
DTEND;TZID=America/Halifax:20241014T143000
DTSTAMP:20260420T094630
CREATED:20240903T191816Z
LAST-MODIFIED:20240905T160732Z
UID:1367-1728894600-1728916200@teppdd.moe.gov.tt
SUMMARY:Curriculum Planning and Development Division (CPDD)
DESCRIPTION:Cultural Transformation Training for Iconic T&T Community Service (Patriotism) for Standard 1\nDESCRIPTION: These workshops are for standard one teachers and residual standard two teachers with a focus on: Iconic Trinidad and Tobago\, Patriotism Volunteerism\, Community Service\, Project Based Learning\, Use of Portfolios\, International Day of Peace and selected VABs. \nTARGET AUDIENCE: Teachers Standard 1 \nVENUE:
URL:https://teppdd.moe.gov.tt/sessions/curriculum-planning-and-development-division-4/
CATEGORIES:Curriculum Planning & Development Division (CPDD)
END:VEVENT
BEGIN:VEVENT
DTSTART;TZID=America/Halifax:20241014T083000
DTEND;TZID=America/Halifax:20241016T143000
DTSTAMP:20260420T094630
CREATED:20240904T135344Z
LAST-MODIFIED:20240905T160912Z
UID:1489-1728894600-1729089000@teppdd.moe.gov.tt
SUMMARY:Curriculum Planning and Development Division (CPDD)
DESCRIPTION:CVQ Assessor Home Economics Areas\nDESCRIPTION: Curriculum Support \nTARGET AUDIENCE: CVQ Assessors and Teachers – Form 4 and Form 5 \nVENUE:
URL:https://teppdd.moe.gov.tt/sessions/curriculum-planning-and-development-division-cpdd-6/
CATEGORIES:Curriculum Planning & Development Division (CPDD)
END:VEVENT
END:VCALENDAR