BEGIN:VCALENDAR
VERSION:2.0
PRODID:-//Professional Development Toolkit - ECPv6.7.1//NONSGML v1.0//EN
CALSCALE:GREGORIAN
METHOD:PUBLISH
X-ORIGINAL-URL:https://teppdd.moe.gov.tt
X-WR-CALDESC:Events for Professional Development Toolkit
REFRESH-INTERVAL;VALUE=DURATION:PT1H
X-Robots-Tag:noindex
X-PUBLISHED-TTL:PT1H
BEGIN:VTIMEZONE
TZID:America/Halifax
BEGIN:DAYLIGHT
TZOFFSETFROM:-0400
TZOFFSETTO:-0300
TZNAME:ADT
DTSTART:20240310T060000
END:DAYLIGHT
BEGIN:STANDARD
TZOFFSETFROM:-0300
TZOFFSETTO:-0400
TZNAME:AST
DTSTART:20241103T050000
END:STANDARD
END:VTIMEZONE
BEGIN:VEVENT
DTSTART;TZID=America/Halifax:20241022T083000
DTEND;TZID=America/Halifax:20241023T143000
DTSTAMP:20260420T093054
CREATED:20240904T140147Z
LAST-MODIFIED:20240905T163538Z
UID:1503-1729585800-1729693800@teppdd.moe.gov.tt
SUMMARY:Curriculum Planning and Development Division (CPDD)
DESCRIPTION:Environmental Science on (Science Unit and Social Science Unit)\nDESCRIPTION: Designed to assist newly assigned Environmental Science teachers with teaching and learning\, as well as provide guidance for CXC related duties. \nTARGET AUDIENCE: New Environmental Science Teachers \nVENUE:
URL:https://teppdd.moe.gov.tt/sessions/curriculum-planning-and-development-division-cpdd-7/
CATEGORIES:Curriculum Planning & Development Division (CPDD)
END:VEVENT
BEGIN:VEVENT
DTSTART;TZID=America/Halifax:20241023T083000
DTEND;TZID=America/Halifax:20241023T143000
DTSTAMP:20260420T093054
CREATED:20240903T192625Z
LAST-MODIFIED:20240905T170956Z
UID:1377-1729672200-1729693800@teppdd.moe.gov.tt
SUMMARY:Curriculum Planning and Development Division (CPDD)
DESCRIPTION:Cultural Transformation Training for Iconic T&T Community Service (Patriotism) for standard 2 Residual (online)\nDESCRIPTION: These workshops are for standard one teachers and residual standard two teachers with a focus on: Iconic Trinidad and Tobago\, Patriotism Volunteerism\, Community Service\, Project Based Learning\, Use of Portfolios\, International Day of Peace and selected VABs. \nTARGET AUDIENCE: Standard 2 Teachers \nVENUE: Virtual
URL:https://teppdd.moe.gov.tt/sessions/curriculum-planning-and-development-divison/
CATEGORIES:Curriculum Planning & Development Division (CPDD)
END:VEVENT
END:VCALENDAR