BEGIN:VCALENDAR
VERSION:2.0
PRODID:-//Professional Development Toolkit - ECPv6.7.1//NONSGML v1.0//EN
CALSCALE:GREGORIAN
METHOD:PUBLISH
X-ORIGINAL-URL:https://teppdd.moe.gov.tt
X-WR-CALDESC:Events for Professional Development Toolkit
REFRESH-INTERVAL;VALUE=DURATION:PT1H
X-Robots-Tag:noindex
X-PUBLISHED-TTL:PT1H
BEGIN:VTIMEZONE
TZID:America/Halifax
BEGIN:DAYLIGHT
TZOFFSETFROM:-0400
TZOFFSETTO:-0300
TZNAME:ADT
DTSTART:20240310T060000
END:DAYLIGHT
BEGIN:STANDARD
TZOFFSETFROM:-0300
TZOFFSETTO:-0400
TZNAME:AST
DTSTART:20241103T050000
END:STANDARD
END:VTIMEZONE
BEGIN:VEVENT
DTSTART;TZID=America/Halifax:20241024T083000
DTEND;TZID=America/Halifax:20241024T143000
DTSTAMP:20260420T093052
CREATED:20240904T140317Z
LAST-MODIFIED:20240905T171329Z
UID:1506-1729758600-1729780200@teppdd.moe.gov.tt
SUMMARY:Curriculum Planning and Development Division (CPDD)
DESCRIPTION:Music: Training of Tobago Primary School Teachers in Music Pedagogy\nDESCRIPTION:  \nTARGET AUDIENCE: Primary School Music Teachers \nVENUE:
URL:https://teppdd.moe.gov.tt/sessions/curriculum-planning-and-development-division-cpdd-8/
CATEGORIES:Curriculum Planning & Development Division (CPDD)
END:VEVENT
END:VCALENDAR