BEGIN:VCALENDAR
VERSION:2.0
PRODID:-//Professional Development Toolkit - ECPv6.7.1//NONSGML v1.0//EN
CALSCALE:GREGORIAN
METHOD:PUBLISH
X-ORIGINAL-URL:https://teppdd.moe.gov.tt
X-WR-CALDESC:Events for Professional Development Toolkit
REFRESH-INTERVAL;VALUE=DURATION:PT1H
X-Robots-Tag:noindex
X-PUBLISHED-TTL:PT1H
BEGIN:VTIMEZONE
TZID:America/Halifax
BEGIN:DAYLIGHT
TZOFFSETFROM:-0400
TZOFFSETTO:-0300
TZNAME:ADT
DTSTART:20240310T060000
END:DAYLIGHT
BEGIN:STANDARD
TZOFFSETFROM:-0300
TZOFFSETTO:-0400
TZNAME:AST
DTSTART:20241103T050000
END:STANDARD
END:VTIMEZONE
BEGIN:VEVENT
DTSTART;TZID=America/Halifax:20241114T083000
DTEND;TZID=America/Halifax:20241115T143000
DTSTAMP:20260420T081000
CREATED:20240905T185415Z
LAST-MODIFIED:20241119T133745Z
UID:1907-1731573000-1731681000@teppdd.moe.gov.tt
SUMMARY:Curriculum Planning and Development Division (CPDD)
DESCRIPTION:VAPA (Drama): Soundscapes (Standard 1)\nDESCRIPTION: \nTARGET AUDIENCE: Teachers Standard 2 \nVENUE:
URL:https://teppdd.moe.gov.tt/sessions/curriculum-planning-and-development-division-cpdd-17/
CATEGORIES:Curriculum Planning & Development Division (CPDD)
END:VEVENT
END:VCALENDAR