BEGIN:VCALENDAR
VERSION:2.0
PRODID:-//Professional Development Toolkit - ECPv6.7.1//NONSGML v1.0//EN
CALSCALE:GREGORIAN
METHOD:PUBLISH
X-ORIGINAL-URL:https://teppdd.moe.gov.tt
X-WR-CALDESC:Events for Professional Development Toolkit
REFRESH-INTERVAL;VALUE=DURATION:PT1H
X-Robots-Tag:noindex
X-PUBLISHED-TTL:PT1H
BEGIN:VTIMEZONE
TZID:America/Halifax
BEGIN:DAYLIGHT
TZOFFSETFROM:-0400
TZOFFSETTO:-0300
TZNAME:ADT
DTSTART:20240310T060000
END:DAYLIGHT
BEGIN:STANDARD
TZOFFSETFROM:-0300
TZOFFSETTO:-0400
TZNAME:AST
DTSTART:20241103T050000
END:STANDARD
BEGIN:DAYLIGHT
TZOFFSETFROM:-0400
TZOFFSETTO:-0300
TZNAME:ADT
DTSTART:20250309T060000
END:DAYLIGHT
BEGIN:STANDARD
TZOFFSETFROM:-0300
TZOFFSETTO:-0400
TZNAME:AST
DTSTART:20251102T050000
END:STANDARD
END:VTIMEZONE
BEGIN:VEVENT
DTSTART;TZID=America/Halifax:20241118T083000
DTEND;TZID=America/Halifax:20241118T143000
DTSTAMP:20260420T180042
CREATED:20240905T185455Z
LAST-MODIFIED:20240905T185455Z
UID:1909-1731918600-1731940200@teppdd.moe.gov.tt
SUMMARY:Curriculum Planning and Development Division (CPDD)
DESCRIPTION:VAPA (Drama): Soundscapes (Standard 1)\nDESCRIPTION: \nTARGET AUDIENCE: Teachers Standard 2 \nVENUE:
URL:https://teppdd.moe.gov.tt/sessions/curriculum-planning-and-development-division-cpdd-18/
CATEGORIES:Curriculum Planning & Development Division (CPDD)
END:VEVENT
BEGIN:VEVENT
DTSTART;TZID=America/Halifax:20241119T083000
DTEND;TZID=America/Halifax:20241119T143000
DTSTAMP:20260420T180042
CREATED:20240904T151945Z
LAST-MODIFIED:20240905T183754Z
UID:1593-1732005000-1732026600@teppdd.moe.gov.tt
SUMMARY:Curriculum Planning & Development Division (CPDD)
DESCRIPTION:BMED: ALL DISTRICTS\nDESCRIPTION: Discussion of syllabus modifications to provide guidance to aid curriculum implementation for CSEC.  \nTARGET GROUP: BMED Teachers \nVENUE:
URL:https://teppdd.moe.gov.tt/sessions/curriculum-planning-development-division-cpdd-12/
CATEGORIES:Curriculum Planning & Development Division (CPDD)
END:VEVENT
BEGIN:VEVENT
DTSTART;TZID=America/Halifax:20241126T083000
DTEND;TZID=America/Halifax:20241126T143000
DTSTAMP:20260420T180042
CREATED:20240904T172949Z
LAST-MODIFIED:20240905T184439Z
UID:1659-1732609800-1732631400@teppdd.moe.gov.tt
SUMMARY:Curriculum Planning and Development Division (CPDD)
DESCRIPTION:CSEC ELECTRONIC DOCUMENT PREPARATION & MANAGEMENT\nDESCRIPTION: Curriculum Support \nTARGET GROUP: Teachers implementing EDPM in Forms 4 & 5 \nVENUE:
URL:https://teppdd.moe.gov.tt/sessions/curriculum-planning-development-division-cpdd-15/
CATEGORIES:Curriculum Planning & Development Division (CPDD)
END:VEVENT
BEGIN:VEVENT
DTSTART;TZID=America/Halifax:20241127T083000
DTEND;TZID=America/Halifax:20241127T143000
DTSTAMP:20260420T180042
CREATED:20240904T173208Z
LAST-MODIFIED:20240905T184544Z
UID:1661-1732696200-1732717800@teppdd.moe.gov.tt
SUMMARY:Curriculum Planning and Development Division (CPDD)
DESCRIPTION:CSEC OFFICE ADMINISTRATION \nDESCRIPTION: Curriculum Support \nTARGET GROUP: Forms 4 & 5 Office Administration Teachers \nVENUE:
URL:https://teppdd.moe.gov.tt/sessions/curriculum-planning-development-division-cpdd-16/
CATEGORIES:Curriculum Planning & Development Division (CPDD)
END:VEVENT
BEGIN:VEVENT
DTSTART;TZID=America/Halifax:20251114T080000
DTEND;TZID=America/Halifax:20251114T170000
DTSTAMP:20260420T180042
CREATED:20241108T154224Z
LAST-MODIFIED:20241108T154224Z
UID:2840-1763107200-1763139600@teppdd.moe.gov.tt
SUMMARY:Curriculum Planning and Development Division (CPDD)
DESCRIPTION:Family & Resource Management (Moderation)\n\n\n\nDescription: \nTarget Audience: Family and Resource Management Moderators \nVenue: \n 
URL:https://teppdd.moe.gov.tt/sessions/curriculum-planning-and-development-division-cpdd-30/
CATEGORIES:Curriculum Planning & Development Division (CPDD)
END:VEVENT
END:VCALENDAR